BEGIN:VCALENDAR
VERSION:2.0
PRODID:-//wp-events-plugin.com//7.2.3.1//EN
BEGIN:VEVENT
UID:0-9@tc69.de
DTSTART;TZID=Europe/Berlin:20260517T143000
DTEND;TZID=Europe/Berlin:20260517T170000
DTSTAMP:20260422T063608Z
URL:https://tc69.de/events/jahreshauptversammlung-2026/
SUMMARY:Jahreshauptversammlung 2026
DESCRIPTION:Hier geht es zur Einladung: JHV 2026 Einladung
CATEGORIES:Turnclub Sterkrade 1869 Oberhausen e.V.
END:VEVENT
BEGIN:VTIMEZONE
TZID:Europe/Berlin
X-LIC-LOCATION:Europe/Berlin
BEGIN:DAYLIGHT
DTSTART:20260329T030000
TZOFFSETFROM:+0100
TZOFFSETTO:+0200
TZNAME:CEST
END:DAYLIGHT
END:VTIMEZONE
END:VCALENDAR